BEGIN:VCALENDAR
VERSION:2.0
PRODID:-//hacksw/handcal//NONSGML v1.0//EN
BEGIN:VEVENT
SUMMARY:AIX EN PROVENCE - DRE 1ere Manche
UID:9421d27e-5c35-4355-8a56-e8efb1e3d639
DTSTART:20260417T220000Z
DTEND:20260419T220000Z
LOCATION:Localisation   
CATEGORIES:Sportif
STATUS:
URL;VALUE=URI:https://www.tirarcpaca.fr/evenements/2026/04/18/aix-en-provence-dre-1ere-manche-2436351
END:VEVENT
END:VCALENDAR
